BEGIN:VCALENDAR
VERSION:2.0
PRODID:-//ExpressionEngine Easy iCalendar plugin//NONSGML v2.0.1//EN
X-WR-TIMEZONE:America/Los_Angeles
X-WR-CALNAME:Upcoming Auctions
BEGIN:VEVENT
UID:73235
DTSTAMP:20211102T113000
DTSTART:20211102T113000
DTEND:20211214T100000
SUMMARY:Multi-Industry Manufacturing & Packaging Equipment Timed Onl
 ine Auction
LOCATION:{location}
DESCRIPTION:BID NOW DATE: Tuesday\, December 14th\, 10:00 am PT LOCATION:
  Multiple Locations RIGGING: There is no self-rigging. All 
 Rigging and Loadout will be completed by a contracted and ap
 proved Rigger.  INSPECTION DATES: By appointment only. Ple
 ase contact us to schedule. CONTACT US 18% Buyers Premium ap
 plies on all online purchases.  
URL:https://www.chrishillsethenterprises.com/auctions/detail/bw7
 3235
SEQUENCE:1
END:VEVENT
END:VCALENDAR